BEGIN:VCALENDAR
VERSION:2.0
PRODID:-//Freie Wählerschaft Sanding - ECPv6.15.12.2//NONSGML v1.0//EN
CALSCALE:GREGORIAN
METHOD:PUBLISH
X-WR-CALNAME:Freie Wählerschaft Sanding
X-ORIGINAL-URL:https://fws-sanding.de
X-WR-CALDESC:Veranstaltungen für Freie Wählerschaft Sanding
REFRESH-INTERVAL;VALUE=DURATION:PT1H
X-Robots-Tag:noindex
X-PUBLISHED-TTL:PT1H
BEGIN:VTIMEZONE
TZID:Europe/Berlin
BEGIN:DAYLIGHT
TZOFFSETFROM:+0100
TZOFFSETTO:+0200
TZNAME:CEST
DTSTART:20250330T010000
END:DAYLIGHT
BEGIN:STANDARD
TZOFFSETFROM:+0200
TZOFFSETTO:+0100
TZNAME:CET
DTSTART:20251026T010000
END:STANDARD
BEGIN:DAYLIGHT
TZOFFSETFROM:+0100
TZOFFSETTO:+0200
TZNAME:CEST
DTSTART:20260329T010000
END:DAYLIGHT
BEGIN:STANDARD
TZOFFSETFROM:+0200
TZOFFSETTO:+0100
TZNAME:CET
DTSTART:20261025T010000
END:STANDARD
BEGIN:DAYLIGHT
TZOFFSETFROM:+0100
TZOFFSETTO:+0200
TZNAME:CEST
DTSTART:20270328T010000
END:DAYLIGHT
BEGIN:STANDARD
TZOFFSETFROM:+0200
TZOFFSETTO:+0100
TZNAME:CET
DTSTART:20271031T010000
END:STANDARD
END:VTIMEZONE
BEGIN:VEVENT
DTSTART;TZID=Europe/Berlin:20261005T190000
DTEND;TZID=Europe/Berlin:20261015T190000
DTSTAMP:20260420T172323
CREATED:20260216T072617Z
LAST-MODIFIED:20260216T072617Z
UID:3174-1791226800-1792090800@fws-sanding.de
SUMMARY:Bürgerversammlungen
DESCRIPTION:
URL:https://fws-sanding.de/kalender/buergerversammlungen/
END:VEVENT
BEGIN:VEVENT
DTSTART;TZID=Europe/Berlin:20261026T190000
DTEND;TZID=Europe/Berlin:20261026T190000
DTSTAMP:20260420T172323
CREATED:20260216T072650Z
LAST-MODIFIED:20260216T072650Z
UID:3176-1793041200-1793041200@fws-sanding.de
SUMMARY:Gemeinderatssitzung
DESCRIPTION:
URL:https://fws-sanding.de/kalender/gemeinderatssitzung-15/
LOCATION:Rathaus
END:VEVENT
END:VCALENDAR