BEGIN:VCALENDAR
VERSION:2.0
PRODID:-//Freie Wählerschaft Sanding - ECPv6.15.12.2//NONSGML v1.0//EN
CALSCALE:GREGORIAN
METHOD:PUBLISH
X-ORIGINAL-URL:https://fws-sanding.de
X-WR-CALDESC:Veranstaltungen für Freie Wählerschaft Sanding
REFRESH-INTERVAL;VALUE=DURATION:PT1H
X-Robots-Tag:noindex
X-PUBLISHED-TTL:PT1H
BEGIN:VTIMEZONE
TZID:Europe/Berlin
BEGIN:DAYLIGHT
TZOFFSETFROM:+0100
TZOFFSETTO:+0200
TZNAME:CEST
DTSTART:20240331T010000
END:DAYLIGHT
BEGIN:STANDARD
TZOFFSETFROM:+0200
TZOFFSETTO:+0100
TZNAME:CET
DTSTART:20241027T010000
END:STANDARD
BEGIN:DAYLIGHT
TZOFFSETFROM:+0100
TZOFFSETTO:+0200
TZNAME:CEST
DTSTART:20250330T010000
END:DAYLIGHT
BEGIN:STANDARD
TZOFFSETFROM:+0200
TZOFFSETTO:+0100
TZNAME:CET
DTSTART:20251026T010000
END:STANDARD
BEGIN:DAYLIGHT
TZOFFSETFROM:+0100
TZOFFSETTO:+0200
TZNAME:CEST
DTSTART:20260329T010000
END:DAYLIGHT
BEGIN:STANDARD
TZOFFSETFROM:+0200
TZOFFSETTO:+0100
TZNAME:CET
DTSTART:20261025T010000
END:STANDARD
END:VTIMEZONE
BEGIN:VEVENT
DTSTART;TZID=Europe/Berlin:20251208T193000
DTEND;TZID=Europe/Berlin:20251208T193000
DTSTAMP:20260420T133700
CREATED:20250722T181846Z
LAST-MODIFIED:20250722T181846Z
UID:1635-1765222200-1765222200@fws-sanding.de
SUMMARY:Vorstandssitzung
DESCRIPTION:
URL:https://fws-sanding.de/kalender/vorstandssitzung-4/
LOCATION:Gasthaus „Zum Sandinger“\, Schierlinger Str. 8\, Thalmassing/Obersanding\, 93107
END:VEVENT
BEGIN:VEVENT
DTSTART;TZID=Europe/Berlin:20251215T190000
DTEND;TZID=Europe/Berlin:20251215T190000
DTSTAMP:20260420T133700
CREATED:20250618T192156Z
LAST-MODIFIED:20250618T192156Z
UID:1589-1765825200-1765825200@fws-sanding.de
SUMMARY:Gemeinderatssitzung
DESCRIPTION:
URL:https://fws-sanding.de/kalender/gemeinderatssitzung-6/
LOCATION:Rathaus
END:VEVENT
BEGIN:VEVENT
DTSTART;TZID=Europe/Berlin:20251221T193000
DTEND;TZID=Europe/Berlin:20251221T193000
DTSTAMP:20260420T133700
CREATED:20251217T074729Z
LAST-MODIFIED:20251217T074837Z
UID:2010-1766345400-1766345400@fws-sanding.de
SUMMARY:Aufstellungsversammlung Kommunalwahl 2026
DESCRIPTION:Aufstellungsversammlung\nder FWS zur Kommunalwahl 2026\n  \nSonntag\, 21. Dezember 2025\n19.30 Uhr \nGasthaus „Zum Sandinger“ \n  \nEs erfolgt die Wahl des Bürgermeisterkandidaten und des Listenvorschlags der FWS. \nAuf Euer Kommen freuen sich die Vorstandschaft und die Listenkandidaten
URL:https://fws-sanding.de/kalender/aufstellungsversammlung-kommunalwahl-2026-2/
LOCATION:Gasthaus „Zum Sandinger“\, Schierlinger Str. 8\, Thalmassing/Obersanding\, 93107
END:VEVENT
END:VCALENDAR