BEGIN:VCALENDAR
VERSION:2.0
PRODID:-//Freie Wählerschaft Sanding - ECPv6.15.12.2//NONSGML v1.0//EN
CALSCALE:GREGORIAN
METHOD:PUBLISH
X-ORIGINAL-URL:https://fws-sanding.de
X-WR-CALDESC:Veranstaltungen für Freie Wählerschaft Sanding
REFRESH-INTERVAL;VALUE=DURATION:PT1H
X-Robots-Tag:noindex
X-PUBLISHED-TTL:PT1H
BEGIN:VTIMEZONE
TZID:Europe/Berlin
BEGIN:DAYLIGHT
TZOFFSETFROM:+0100
TZOFFSETTO:+0200
TZNAME:CEST
DTSTART:20240331T010000
END:DAYLIGHT
BEGIN:STANDARD
TZOFFSETFROM:+0200
TZOFFSETTO:+0100
TZNAME:CET
DTSTART:20241027T010000
END:STANDARD
BEGIN:DAYLIGHT
TZOFFSETFROM:+0100
TZOFFSETTO:+0200
TZNAME:CEST
DTSTART:20250330T010000
END:DAYLIGHT
BEGIN:STANDARD
TZOFFSETFROM:+0200
TZOFFSETTO:+0100
TZNAME:CET
DTSTART:20251026T010000
END:STANDARD
BEGIN:DAYLIGHT
TZOFFSETFROM:+0100
TZOFFSETTO:+0200
TZNAME:CEST
DTSTART:20260329T010000
END:DAYLIGHT
BEGIN:STANDARD
TZOFFSETFROM:+0200
TZOFFSETTO:+0100
TZNAME:CET
DTSTART:20261025T010000
END:STANDARD
END:VTIMEZONE
BEGIN:VEVENT
DTSTART;TZID=Europe/Berlin:20250707T190000
DTEND;TZID=Europe/Berlin:20250707T190000
DTSTAMP:20260420T222049
CREATED:20250618T191955Z
LAST-MODIFIED:20250618T191955Z
UID:1583-1751914800-1751914800@fws-sanding.de
SUMMARY:Gemeinderatssitzung
DESCRIPTION:
URL:https://fws-sanding.de/kalender/gemeinderatssitzung/
LOCATION:Rathaus
END:VEVENT
BEGIN:VEVENT
DTSTART;TZID=Europe/Berlin:20250713T193000
DTEND;TZID=Europe/Berlin:20250713T193000
DTSTAMP:20260420T222049
CREATED:20250618T191855Z
LAST-MODIFIED:20250618T191855Z
UID:1581-1752435000-1752435000@fws-sanding.de
SUMMARY:Jahreshauptversammlung
DESCRIPTION:Agenda: \n• Begrüßung\n• Totengedenken\n• Bericht des Vorsitzenden\n• Bericht des Kassiers\n• Bericht der Schriftführerin\n• Neuwahlen\n• Ausblick\n• Aktuelle Infos\, Fragen\, Wünsche\, Anträge \nAuf Euer Kommen freut sich die Vorstandschaft!
URL:https://fws-sanding.de/kalender/jahreshauptversammlung/
LOCATION:zum Sandinger
END:VEVENT
BEGIN:VEVENT
DTSTART;TZID=Europe/Berlin:20250728T190000
DTEND;TZID=Europe/Berlin:20250728T190000
DTSTAMP:20260420T222049
CREATED:20250618T191503Z
LAST-MODIFIED:20250618T191548Z
UID:1577-1753729200-1753729200@fws-sanding.de
SUMMARY:Gemeinderatssitzung
DESCRIPTION:
URL:https://fws-sanding.de/kalender/gemeinderatssitzung-2/
LOCATION:Rathaus
END:VEVENT
END:VCALENDAR