BEGIN:VCALENDAR
VERSION:2.0
PRODID:-//Freie Wählerschaft Sanding - ECPv6.15.12.2//NONSGML v1.0//EN
CALSCALE:GREGORIAN
METHOD:PUBLISH
X-WR-CALNAME:Freie Wählerschaft Sanding
X-ORIGINAL-URL:https://fws-sanding.de
X-WR-CALDESC:Veranstaltungen für Freie Wählerschaft Sanding
REFRESH-INTERVAL;VALUE=DURATION:PT1H
X-Robots-Tag:noindex
X-PUBLISHED-TTL:PT1H
BEGIN:VTIMEZONE
TZID:Europe/Berlin
BEGIN:DAYLIGHT
TZOFFSETFROM:+0100
TZOFFSETTO:+0200
TZNAME:CEST
DTSTART:20240331T010000
END:DAYLIGHT
BEGIN:STANDARD
TZOFFSETFROM:+0200
TZOFFSETTO:+0100
TZNAME:CET
DTSTART:20241027T010000
END:STANDARD
BEGIN:DAYLIGHT
TZOFFSETFROM:+0100
TZOFFSETTO:+0200
TZNAME:CEST
DTSTART:20250330T010000
END:DAYLIGHT
BEGIN:STANDARD
TZOFFSETFROM:+0200
TZOFFSETTO:+0100
TZNAME:CET
DTSTART:20251026T010000
END:STANDARD
BEGIN:DAYLIGHT
TZOFFSETFROM:+0100
TZOFFSETTO:+0200
TZNAME:CEST
DTSTART:20260329T010000
END:DAYLIGHT
BEGIN:STANDARD
TZOFFSETFROM:+0200
TZOFFSETTO:+0100
TZNAME:CET
DTSTART:20261025T010000
END:STANDARD
BEGIN:DAYLIGHT
TZOFFSETFROM:+0100
TZOFFSETTO:+0200
TZNAME:CEST
DTSTART:20270328T010000
END:DAYLIGHT
BEGIN:STANDARD
TZOFFSETFROM:+0200
TZOFFSETTO:+0100
TZNAME:CET
DTSTART:20271031T010000
END:STANDARD
END:VTIMEZONE
BEGIN:VEVENT
DTSTART;TZID=Europe/Berlin:20260413T190000
DTEND;TZID=Europe/Berlin:20260413T190000
DTSTAMP:20260420T064414
CREATED:20260216T072008Z
LAST-MODIFIED:20260216T072008Z
UID:3163-1776106800-1776106800@fws-sanding.de
SUMMARY:Gemeinderatssitzung
DESCRIPTION:
URL:https://fws-sanding.de/kalender/gemeinderatssitzung-10/
LOCATION:Rathaus
END:VEVENT
BEGIN:VEVENT
DTSTART;TZID=Europe/Berlin:20260321T140000
DTEND;TZID=Europe/Berlin:20260321T140000
DTSTAMP:20260420T064414
CREATED:20260304T194750Z
LAST-MODIFIED:20260310T175912Z
UID:3270-1774101600-1774101600@fws-sanding.de
SUMMARY:Rama Dama 2026
DESCRIPTION:
URL:https://fws-sanding.de/kalender/rama-dama-2026/
LOCATION:Feuerwehrhaus Obersanding
END:VEVENT
BEGIN:VEVENT
DTSTART;TZID=Europe/Berlin:20260316T190000
DTEND;TZID=Europe/Berlin:20260316T190000
DTSTAMP:20260420T064414
CREATED:20260216T071931Z
LAST-MODIFIED:20260216T071931Z
UID:3161-1773687600-1773687600@fws-sanding.de
SUMMARY:Gemeinderatssitzung
DESCRIPTION:
URL:https://fws-sanding.de/kalender/gemeinderatssitzung-9/
LOCATION:Rathaus
END:VEVENT
BEGIN:VEVENT
DTSTART;VALUE=DATE:20260308
DTEND;VALUE=DATE:20260309
DTSTAMP:20260420T064414
CREATED:20251224T102815Z
LAST-MODIFIED:20251224T102815Z
UID:2060-1772928000-1773014399@fws-sanding.de
SUMMARY:Kommunalwahl 2026
DESCRIPTION:
URL:https://fws-sanding.de/kalender/kommunalwahl-2026/
END:VEVENT
BEGIN:VEVENT
DTSTART;TZID=Europe/Berlin:20260223T190000
DTEND;TZID=Europe/Berlin:20260223T190000
DTSTAMP:20260420T064414
CREATED:20260216T071846Z
LAST-MODIFIED:20260216T071846Z
UID:3159-1771873200-1771873200@fws-sanding.de
SUMMARY:Gemeinderatssitzung
DESCRIPTION:
URL:https://fws-sanding.de/kalender/gemeinderatssitzung-8/
LOCATION:Rathaus
END:VEVENT
BEGIN:VEVENT
DTSTART;TZID=Europe/Berlin:20260211T193000
DTEND;TZID=Europe/Berlin:20260211T193000
DTSTAMP:20260420T064414
CREATED:20251224T102410Z
LAST-MODIFIED:20251224T102410Z
UID:2058-1770838200-1770838200@fws-sanding.de
SUMMARY:Wahlversammlung in Luckenpaint
DESCRIPTION:
URL:https://fws-sanding.de/kalender/wahlversammlung-in-luckenpaint/
LOCATION:Luckenpaint\, Schützenheim\, Dünzlinger Str. 6\, Thalmassing/Luckenpaint\, 93107\, Germany
END:VEVENT
BEGIN:VEVENT
DTSTART;TZID=Europe/Berlin:20260210T193000
DTEND;TZID=Europe/Berlin:20260210T193000
DTSTAMP:20260420T064414
CREATED:20251224T102325Z
LAST-MODIFIED:20251224T102325Z
UID:2056-1770751800-1770751800@fws-sanding.de
SUMMARY:Wahlversammlung in Weillohe
DESCRIPTION:
URL:https://fws-sanding.de/kalender/wahlversammlung-in-weillohe/
LOCATION:Weillohe\, Gasthof Renner\, St.-Bäuml-Straße 12\, Thalmassing/Weillohe\, 93107\, Germany
END:VEVENT
BEGIN:VEVENT
DTSTART;TZID=Europe/Berlin:20260208T193000
DTEND;TZID=Europe/Berlin:20260208T193000
DTSTAMP:20260420T064414
CREATED:20251224T102240Z
LAST-MODIFIED:20251224T102240Z
UID:2054-1770579000-1770579000@fws-sanding.de
SUMMARY:Wahlversammlung in Sanding
DESCRIPTION:
URL:https://fws-sanding.de/kalender/wahlversammlung-in-sanding/
LOCATION:Gasthaus „Zum Sandinger“\, Schierlinger Str. 8\, Thalmassing/Obersanding\, 93107
END:VEVENT
BEGIN:VEVENT
DTSTART;TZID=Europe/Berlin:20260204T193000
DTEND;TZID=Europe/Berlin:20260204T193000
DTSTAMP:20260420T064414
CREATED:20251224T102141Z
LAST-MODIFIED:20251224T102141Z
UID:2051-1770233400-1770233400@fws-sanding.de
SUMMARY:Wahlversammlung in Thalmassing
DESCRIPTION:
URL:https://fws-sanding.de/kalender/wahlversammlung-in-thalmassing/
LOCATION:Thalmassing\, Sportheim\, Luckenpainter Str. 22\, Thalmassing\, 93107\, Germany
END:VEVENT
BEGIN:VEVENT
DTSTART;TZID=Europe/Berlin:20260203T193000
DTEND;TZID=Europe/Berlin:20260203T193000
DTSTAMP:20260420T064414
CREATED:20251224T101746Z
LAST-MODIFIED:20251224T102157Z
UID:2049-1770147000-1770147000@fws-sanding.de
SUMMARY:Wahlversammlung in Wolkering
DESCRIPTION:
URL:https://fws-sanding.de/kalender/wahlversammlung-wolkering/
LOCATION:Wolkering\, Gasthaus Maurer\, Talstraße 4\, Thalmassing/Wolkering\, 93107\, Germany
END:VEVENT
BEGIN:VEVENT
DTSTART;TZID=Europe/Berlin:20260119T190000
DTEND;TZID=Europe/Berlin:20260119T190000
DTSTAMP:20260420T064414
CREATED:20260216T071759Z
LAST-MODIFIED:20260216T071759Z
UID:3157-1768849200-1768849200@fws-sanding.de
SUMMARY:Gemeinderatssitzung
DESCRIPTION:
URL:https://fws-sanding.de/kalender/gemeinderatssitzung-7/
LOCATION:Rathaus
END:VEVENT
BEGIN:VEVENT
DTSTART;TZID=Europe/Berlin:20251221T193000
DTEND;TZID=Europe/Berlin:20251221T193000
DTSTAMP:20260420T064414
CREATED:20251217T074729Z
LAST-MODIFIED:20251217T074837Z
UID:2010-1766345400-1766345400@fws-sanding.de
SUMMARY:Aufstellungsversammlung Kommunalwahl 2026
DESCRIPTION:Aufstellungsversammlung\nder FWS zur Kommunalwahl 2026\n  \nSonntag\, 21. Dezember 2025\n19.30 Uhr \nGasthaus „Zum Sandinger“ \n  \nEs erfolgt die Wahl des Bürgermeisterkandidaten und des Listenvorschlags der FWS. \nAuf Euer Kommen freuen sich die Vorstandschaft und die Listenkandidaten
URL:https://fws-sanding.de/kalender/aufstellungsversammlung-kommunalwahl-2026-2/
LOCATION:Gasthaus „Zum Sandinger“\, Schierlinger Str. 8\, Thalmassing/Obersanding\, 93107
END:VEVENT
BEGIN:VEVENT
DTSTART;TZID=Europe/Berlin:20251215T190000
DTEND;TZID=Europe/Berlin:20251215T190000
DTSTAMP:20260420T064414
CREATED:20250618T192156Z
LAST-MODIFIED:20250618T192156Z
UID:1589-1765825200-1765825200@fws-sanding.de
SUMMARY:Gemeinderatssitzung
DESCRIPTION:
URL:https://fws-sanding.de/kalender/gemeinderatssitzung-6/
LOCATION:Rathaus
END:VEVENT
BEGIN:VEVENT
DTSTART;TZID=Europe/Berlin:20251208T193000
DTEND;TZID=Europe/Berlin:20251208T193000
DTSTAMP:20260420T064414
CREATED:20250722T181846Z
LAST-MODIFIED:20250722T181846Z
UID:1635-1765222200-1765222200@fws-sanding.de
SUMMARY:Vorstandssitzung
DESCRIPTION:
URL:https://fws-sanding.de/kalender/vorstandssitzung-4/
LOCATION:Gasthaus „Zum Sandinger“\, Schierlinger Str. 8\, Thalmassing/Obersanding\, 93107
END:VEVENT
BEGIN:VEVENT
DTSTART;TZID=Europe/Berlin:20251124T190000
DTEND;TZID=Europe/Berlin:20251124T190000
DTSTAMP:20260420T064414
CREATED:20250618T192126Z
LAST-MODIFIED:20250618T192126Z
UID:1587-1764010800-1764010800@fws-sanding.de
SUMMARY:Gemeinderatssitzung
DESCRIPTION:
URL:https://fws-sanding.de/kalender/gemeinderatssitzung-5/
LOCATION:Rathaus
END:VEVENT
BEGIN:VEVENT
DTSTART;TZID=Europe/Berlin:20251123T093000
DTEND;TZID=Europe/Berlin:20251123T093000
DTSTAMP:20260420T064414
CREATED:20251118T183656Z
LAST-MODIFIED:20251118T183757Z
UID:1806-1763890200-1763890200@fws-sanding.de
SUMMARY:Politischer Frühschoppen
DESCRIPTION:Politischer \nFrühschoppen \nmit aktuellen Infos zur \nKommunalwahl 2026 \n  \nAm Sonntag\, 23.11.2025 \num 9.30 Uhr  \nim Gasthaus „Zum Sandinger“ \n  \nAlle Gemeindebürger sind herzlich eingeladen! \nDie FWS freut sich auf Euer Kommen!
URL:https://fws-sanding.de/kalender/1806/
LOCATION:Gasthaus „Zum Sandinger“\, Schierlinger Str. 8\, Thalmassing/Obersanding\, 93107
END:VEVENT
BEGIN:VEVENT
DTSTART;TZID=Europe/Berlin:20251110T193000
DTEND;TZID=Europe/Berlin:20251110T193000
DTSTAMP:20260420T064414
CREATED:20250722T181807Z
LAST-MODIFIED:20250722T181807Z
UID:1633-1762803000-1762803000@fws-sanding.de
SUMMARY:Vorstandssitzung
DESCRIPTION:
URL:https://fws-sanding.de/kalender/vorstandssitzung-3/
LOCATION:Gasthaus „Zum Sandinger“\, Schierlinger Str. 8\, Thalmassing/Obersanding\, 93107
END:VEVENT
BEGIN:VEVENT
DTSTART;TZID=Europe/Berlin:20251103T190000
DTEND;TZID=Europe/Berlin:20251103T190000
DTSTAMP:20260420T064414
CREATED:20250618T192048Z
LAST-MODIFIED:20250924T041452Z
UID:1585-1762196400-1762196400@fws-sanding.de
SUMMARY:Gemeinderatssitzung
DESCRIPTION:
URL:https://fws-sanding.de/kalender/gemeinderatssitzung-4/
LOCATION:Rathaus
END:VEVENT
BEGIN:VEVENT
DTSTART;TZID=Europe/Berlin:20251102T193000
DTEND;TZID=Europe/Berlin:20251102T193000
DTSTAMP:20260420T064414
CREATED:20251019T160640Z
LAST-MODIFIED:20251019T165749Z
UID:1762-1762111800-1762111800@fws-sanding.de
SUMMARY:Aufstellungsversammlung Kommunalwahl 2026
DESCRIPTION:Einladung zur \nAufstellungs-versammlung \nder FWS zur Kommunalwahl 2026 \n  \n  \nSonntag\, 02. November 2025 \n19.30 Uhr  \nGasthaus „Zum Sandinger“ \n  \nEs erfolgt die Wahl des Listenvorschlags der FWS. \nAuf Euer Kommen freuen sich die Vorstandschaft und die Listenkandidaten
URL:https://fws-sanding.de/kalender/aufstellungsversammlung-kommunalwahl-2026/
LOCATION:Gasthaus „Zum Sandinger“\, Schierlinger Str. 8\, Thalmassing/Obersanding\, 93107
END:VEVENT
BEGIN:VEVENT
DTSTART;TZID=Europe/Berlin:20251102T193000
DTEND;TZID=Europe/Berlin:20251102T193000
DTSTAMP:20260420T064414
CREATED:20250722T181934Z
LAST-MODIFIED:20250722T181934Z
UID:1637-1762111800-1762111800@fws-sanding.de
SUMMARY:Nominierungsversammlung
DESCRIPTION:
URL:https://fws-sanding.de/kalender/nominierungsversammlung/
LOCATION:Gasthaus „Zum Sandinger“\, Schierlinger Str. 8\, Thalmassing/Obersanding\, 93107
END:VEVENT
BEGIN:VEVENT
DTSTART;TZID=Europe/Berlin:20251029T190000
DTEND;TZID=Europe/Berlin:20251029T190000
DTSTAMP:20260420T064414
CREATED:20250924T043112Z
LAST-MODIFIED:20250924T044611Z
UID:1721-1761764400-1761764400@fws-sanding.de
SUMMARY:Infoveranstalltung zum Glasfaserausbau
DESCRIPTION:Informationsveranstaltung zum Glasfaserausbau in der Gemeinde Thalmassing
URL:https://fws-sanding.de/kalender/infoveranstalltung-zum-glasfaserausbau/
LOCATION:Mehrzwekhalle Thalmassing\, Luckenpainter Straße 18\, Thalmassing\, 93107\, Germany
END:VEVENT
BEGIN:VEVENT
DTSTART;TZID=Europe/Berlin:20251016T193000
DTEND;TZID=Europe/Berlin:20251016T193000
DTSTAMP:20260420T064414
CREATED:20250715T212447Z
LAST-MODIFIED:20250715T212447Z
UID:1626-1760643000-1760643000@fws-sanding.de
SUMMARY:Bürgerversammlung Thalmassing
DESCRIPTION:
URL:https://fws-sanding.de/kalender/buergerversammlung-thalmassing/
LOCATION:Thalmassing\, Sportheim\, Luckenpainter Str. 22\, Thalmassing\, 93107\, Germany
END:VEVENT
BEGIN:VEVENT
DTSTART;TZID=Europe/Berlin:20251014T193000
DTEND;TZID=Europe/Berlin:20251014T193000
DTSTAMP:20260420T064414
CREATED:20250715T212351Z
LAST-MODIFIED:20250715T212351Z
UID:1624-1760470200-1760470200@fws-sanding.de
SUMMARY:Bürgerversammlung Sanding
DESCRIPTION:
URL:https://fws-sanding.de/kalender/buergerversammlung-sanding/
LOCATION:Gasthaus „Zum Sandinger“\, Schierlinger Str. 8\, Thalmassing/Obersanding\, 93107
END:VEVENT
BEGIN:VEVENT
DTSTART;TZID=Europe/Berlin:20251013T193000
DTEND;TZID=Europe/Berlin:20251013T193000
DTSTAMP:20260420T064414
CREATED:20250722T181725Z
LAST-MODIFIED:20250722T181725Z
UID:1631-1760383800-1760383800@fws-sanding.de
SUMMARY:Vorstandssitzung
DESCRIPTION:
URL:https://fws-sanding.de/kalender/vorstandssitzung-2/
LOCATION:Gasthaus „Zum Sandinger“\, Schierlinger Str. 8\, Thalmassing/Obersanding\, 93107
END:VEVENT
BEGIN:VEVENT
DTSTART;TZID=Europe/Berlin:20251009T193000
DTEND;TZID=Europe/Berlin:20251009T193000
DTSTAMP:20260420T064414
CREATED:20250715T212250Z
LAST-MODIFIED:20250715T212250Z
UID:1622-1760038200-1760038200@fws-sanding.de
SUMMARY:Bürgerversammlung Luckenpaint
DESCRIPTION:
URL:https://fws-sanding.de/kalender/buergerversammlung-luckenpaint/
LOCATION:Luckenpaint\, Schützenheim\, Dünzlinger Str. 6\, Thalmassing/Luckenpaint\, 93107\, Germany
END:VEVENT
BEGIN:VEVENT
DTSTART;TZID=Europe/Berlin:20251008T193000
DTEND;TZID=Europe/Berlin:20251008T193000
DTSTAMP:20260420T064414
CREATED:20250715T212018Z
LAST-MODIFIED:20250715T212157Z
UID:1616-1759951800-1759951800@fws-sanding.de
SUMMARY:Bürgerversammlung Weillohe
DESCRIPTION:
URL:https://fws-sanding.de/kalender/buergerversammlung-weillohe/
LOCATION:Weillohe\, Gasthof Renner\, St.-Bäuml-Straße 12\, Thalmassing/Weillohe\, 93107\, Germany
END:VEVENT
BEGIN:VEVENT
DTSTART;TZID=Europe/Berlin:20251006T193000
DTEND;TZID=Europe/Berlin:20251006T193000
DTSTAMP:20260420T064414
CREATED:20250715T201952Z
LAST-MODIFIED:20250715T201952Z
UID:1592-1759779000-1759779000@fws-sanding.de
SUMMARY:Bürgerversammlung Wolkering
DESCRIPTION:
URL:https://fws-sanding.de/kalender/buergerversammlung-wolkering/
LOCATION:Wolkering\, Gasthaus Maurer\, Talstraße 4\, Thalmassing/Wolkering\, 93107\, Germany
END:VEVENT
BEGIN:VEVENT
DTSTART;TZID=Europe/Berlin:20250925T190000
DTEND;TZID=Europe/Berlin:20250925T190000
DTSTAMP:20260420T064414
CREATED:20250924T042834Z
LAST-MODIFIED:20250924T044716Z
UID:1716-1758826800-1758826800@fws-sanding.de
SUMMARY:Infoveranstaltung für Windvorranggebiete
DESCRIPTION:Die Gemeinde Thalmassing lädt alle Bürgerinnen und Bürger\, wie angekündigt\, zu einem weiteren Informationsgespräch ein:\n25. September 2025 um 19.00 Uhr in der Mehrzweckhalle Thalmassing \n  \nWeiter Infos
URL:https://fws-sanding.de/kalender/infoveranstaltung-fuer-windvorranggebiete-im-gemeindegebiet-thalmassing/
LOCATION:Mehrzwekhalle Thalmassing\, Luckenpainter Straße 18\, Thalmassing\, 93107\, Germany
END:VEVENT
BEGIN:VEVENT
DTSTART;TZID=Europe/Berlin:20250923T193000
DTEND;TZID=Europe/Berlin:20250923T193000
DTSTAMP:20260420T064414
CREATED:20250722T181620Z
LAST-MODIFIED:20250908T091011Z
UID:1629-1758655800-1758655800@fws-sanding.de
SUMMARY:Vorstandssitzung
DESCRIPTION:
URL:https://fws-sanding.de/kalender/vorstandssitzung/
LOCATION:Gasthaus „Zum Sandinger“\, Schierlinger Str. 8\, Thalmassing/Obersanding\, 93107
END:VEVENT
BEGIN:VEVENT
DTSTART;TZID=Europe/Berlin:20250922T190000
DTEND;TZID=Europe/Berlin:20250922T190000
DTSTAMP:20260420T064414
CREATED:20250618T191642Z
LAST-MODIFIED:20250618T191642Z
UID:1579-1758567600-1758567600@fws-sanding.de
SUMMARY:Gemeinderatssitzung
DESCRIPTION:
URL:https://fws-sanding.de/kalender/gemeinderatssitzung-3/
LOCATION:Rathaus
END:VEVENT
END:VCALENDAR